BEGIN:VCALENDAR
VERSION:2.0
PRODID:-//Schutterij St.Martinus Houthem-St.Gerlach - ECPv6.3.7//NONSGML v1.0//EN
CALSCALE:GREGORIAN
METHOD:PUBLISH
X-ORIGINAL-URL:https://schutterijhouthem.nl
X-WR-CALDESC:Evenementen voor Schutterij St.Martinus Houthem-St.Gerlach
REFRESH-INTERVAL;VALUE=DURATION:PT1H
X-Robots-Tag:noindex
X-PUBLISHED-TTL:PT1H
BEGIN:VTIMEZONE
TZID:Europe/Amsterdam
BEGIN:DAYLIGHT
TZOFFSETFROM:+0100
TZOFFSETTO:+0200
TZNAME:CEST
DTSTART:20250330T010000
END:DAYLIGHT
BEGIN:STANDARD
TZOFFSETFROM:+0200
TZOFFSETTO:+0100
TZNAME:CET
DTSTART:20251026T010000
END:STANDARD
BEGIN:DAYLIGHT
TZOFFSETFROM:+0100
TZOFFSETTO:+0200
TZNAME:CEST
DTSTART:20260329T010000
END:DAYLIGHT
BEGIN:STANDARD
TZOFFSETFROM:+0200
TZOFFSETTO:+0100
TZNAME:CET
DTSTART:20261025T010000
END:STANDARD
END:VTIMEZONE
BEGIN:VEVENT
DTSTART;VALUE=DATE:20260328
DTEND;VALUE=DATE:20260329
DTSTAMP:20260422T041702
CREATED:20260110T133513Z
LAST-MODIFIED:20260314T114958Z
UID:7249-1774656000-1774742399@schutterijhouthem.nl
SUMMARY:Opening schietseizoen
DESCRIPTION:
URL:https://schutterijhouthem.nl/event/opening-schietseizoen/
END:VEVENT
BEGIN:VEVENT
DTSTART;TZID=Europe/Amsterdam:20260322T090000
DTEND;TZID=Europe/Amsterdam:20260322T140000
DTSTAMP:20260422T041702
CREATED:20241229T094451Z
LAST-MODIFIED:20260110T133148Z
UID:6921-1774170000-1774188000@schutterijhouthem.nl
SUMMARY:Jaarmis\, schuttersmaal en huldiging jubilarissen
DESCRIPTION:
URL:https://schutterijhouthem.nl/event/jaarmis-schuttersmaal-en-huldiging-jubilarissen/
END:VEVENT
BEGIN:VEVENT
DTSTART;TZID=Europe/Amsterdam:20260317T193000
DTEND;TZID=Europe/Amsterdam:20260317T220000
DTSTAMP:20260422T041702
CREATED:20241229T100513Z
LAST-MODIFIED:20260110T132918Z
UID:6951-1773775800-1773784800@schutterijhouthem.nl
SUMMARY:Algemene ledenvergadering
DESCRIPTION:
URL:https://schutterijhouthem.nl/event/algemene-ledenvergadering/
END:VEVENT
BEGIN:VEVENT
DTSTART;TZID=Europe/Amsterdam:20260125T141100
DTEND;TZID=Europe/Amsterdam:20260125T170000
DTSTAMP:20260422T041702
CREATED:20241229T093810Z
LAST-MODIFIED:20260110T134106Z
UID:6914-1769350260-1769360400@schutterijhouthem.nl
SUMMARY:Prinsenreceptie cv
DESCRIPTION:
URL:https://schutterijhouthem.nl/event/prinsenreceptie/
END:VEVENT
BEGIN:VEVENT
DTSTART;TZID=Europe/Amsterdam:20260118T141100
DTEND;TZID=Europe/Amsterdam:20260118T170000
DTSTAMP:20260422T041702
CREATED:20260110T134019Z
LAST-MODIFIED:20260110T134019Z
UID:7254-1768745460-1768755600@schutterijhouthem.nl
SUMMARY:Prinsenreceptie jcv
DESCRIPTION:
URL:https://schutterijhouthem.nl/event/prinsenreceptie-jcv/
END:VEVENT
BEGIN:VEVENT
DTSTART;TZID=Europe/Amsterdam:20260111T093000
DTEND;TZID=Europe/Amsterdam:20260111T103000
DTSTAMP:20260422T041702
CREATED:20241229T093606Z
LAST-MODIFIED:20260110T133303Z
UID:6910-1768123800-1768127400@schutterijhouthem.nl
SUMMARY:Heilige mis gerlachusoctaaf
DESCRIPTION:
URL:https://schutterijhouthem.nl/event/heilige-mis-gerlachusoctaaf/
END:VEVENT
BEGIN:VEVENT
DTSTART;TZID=Europe/Amsterdam:20260106T190000
DTEND;TZID=Europe/Amsterdam:20260106T210000
DTSTAMP:20260422T041702
CREATED:20241229T093701Z
LAST-MODIFIED:20260110T133344Z
UID:6912-1767726000-1767733200@schutterijhouthem.nl
SUMMARY:Nieuwjaarsreceptie gemeente Valkenburg
DESCRIPTION:
URL:https://schutterijhouthem.nl/event/nieuwjaarsreceptie-gemeente-valkenburg/
END:VEVENT
BEGIN:VEVENT
DTSTART;VALUE=DATE:20251005
DTEND;VALUE=DATE:20251006
DTSTAMP:20260422T041702
CREATED:20250819T105545Z
LAST-MODIFIED:20250819T105545Z
UID:6970-1759622400-1759708799@schutterijhouthem.nl
SUMMARY:Opening bokkenweken
DESCRIPTION:
URL:https://schutterijhouthem.nl/event/opening-bokkenweken/
END:VEVENT
BEGIN:VEVENT
DTSTART;TZID=Europe/Amsterdam:20250929T160000
DTEND;TZID=Europe/Amsterdam:20250929T183000
DTSTAMP:20260422T041702
CREATED:20250819T105718Z
LAST-MODIFIED:20250819T105718Z
UID:6972-1759161600-1759170600@schutterijhouthem.nl
SUMMARY:Schietevenement
DESCRIPTION:
URL:https://schutterijhouthem.nl/event/schietevenement/
END:VEVENT
BEGIN:VEVENT
DTSTART;TZID=Europe/Amsterdam:20250126T120000
DTEND;TZID=Europe/Amsterdam:20250126T180000
DTSTAMP:20260422T041702
CREATED:20241229T094220Z
LAST-MODIFIED:20260110T133555Z
UID:6917-1737892800-1737914400@schutterijhouthem.nl
SUMMARY:Investituur Orde Rode Leeuw
DESCRIPTION:
URL:https://schutterijhouthem.nl/event/investituur-orde-rode-leeuw/
END:VEVENT
END:VCALENDAR